BEGIN:VCALENDAR
VERSION:2.0
PRODID:-//wp-events-plugin.com//6.6.4//EN
TZID:Europe/Berlin
X-WR-TIMEZONE:Europe/Berlin
BEGIN:VEVENT
UID:42588@tsv-aichach.de
DTSTART;TZID=Europe/Berlin:20231031T190000
DTEND;TZID=Europe/Berlin:20231031T200000
DTSTAMP:20231010T065531Z
URL:https://www.tsv-aichach.de/events/yoga-fuer-erwachsene-10x-start-10-10
 -23-sportbox-raum-2-trainerin-kerstin-brandl-2023-10-31/
SUMMARY:Yoga für Erwachsene  / 10x / Start: 10.10.23 / Sportbox Raum 2 / T
 rainerin: Kerstin Brandl
DESCRIPTION:
CATEGORIES:Turnen
LOCATION:Sportbox\, Donauwörther Strasse 12-14\, Aichach\, DE\, 86551\, Ba
 yern\, Deutschland
X-APPLE-STRUCTURED-LOCATION;VALUE=URI;X-ADDRESS=Donauwörther Strasse 12-14
 \, Aichach\, DE\, 86551\, Bayern\, Deutschland;X-APPLE-RADIUS=100;X-TITLE=
 Sportbox:geo:0,0
END:VEVENT
BEGIN:VTIMEZONE
TZID:Europe/Berlin
X-LIC-LOCATION:Europe/Berlin
BEGIN:STANDARD
DTSTART:20231029T020000
TZOFFSETFROM:+0200
TZOFFSETTO:+0100
TZNAME:CET
END:STANDARD
END:VTIMEZONE
END:VCALENDAR