BEGIN:VCALENDAR
VERSION:2.0
PRODID:-//wp-events-plugin.com//6.6.4//EN
TZID:Europe/Berlin
X-WR-TIMEZONE:Europe/Berlin
BEGIN:VEVENT
UID:39977@tsv-aichach.de
DTSTART;TZID=Europe/Berlin:20240711T180000
DTEND;TZID=Europe/Berlin:20240711T200000
DTSTAMP:20230826T193317Z
URL:https://www.tsv-aichach.de/events/volleyball-damen-1-4-2024-07-11/
SUMMARY:Volleyball Damen 1
DESCRIPTION:Volleyballtraining Damen 1 SG Aichach-Inchenhofen\n\nNähere In
 fos findet Ihr hier\n\nTraining findet in der Schulturnhalle Inchenhofen s
 tatt
CATEGORIES:Volleyball
END:VEVENT
BEGIN:VTIMEZONE
TZID:Europe/Berlin
X-LIC-LOCATION:Europe/Berlin
BEGIN:DAYLIGHT
DTSTART:20240331T030000
TZOFFSETFROM:+0100
TZOFFSETTO:+0200
TZNAME:CEST
END:DAYLIGHT
END:VTIMEZONE
END:VCALENDAR