BEGIN:VCALENDAR
VERSION:2.0
PRODID:-//wp-events-plugin.com//6.6.4//EN
TZID:Europe/Berlin
X-WR-TIMEZONE:Europe/Berlin
BEGIN:VEVENT
UID:39529@tsv-aichach.de
DTSTART;TZID=Europe/Berlin:20231018T174500
DTEND;TZID=Europe/Berlin:20231018T190000
DTSTAMP:20230824T081237Z
URL:https://www.tsv-aichach.de/events/step-aerobic-tsv-halle-trainerin-kar
 in-kneise-2023-10-18/
SUMMARY:Step Aerobic / TSV Halle / Trainerin: Karin Kneise
DESCRIPTION:Mitzubringen: Handtuch\, etwas zum Trinken.\n\nBitte achten Sie
  auf die Anweisungen der Übungsleiter/innen.\n\nViel Spaß beim Training!
 \n
CATEGORIES:Gruppenfitness,Turnen
LOCATION:TSV Halle\, Donauwörther Str. 12-14\, Aichach\, Bayern\, 86551\, 
 Bayern\, Deutschland
X-APPLE-STRUCTURED-LOCATION;VALUE=URI;X-ADDRESS=Donauwörther Str. 12-14\, 
 Aichach\, Bayern\, 86551\, Bayern\, Deutschland;X-APPLE-RADIUS=100;X-TITLE
 =TSV Halle:geo:0,0
END:VEVENT
BEGIN:VTIMEZONE
TZID:Europe/Berlin
X-LIC-LOCATION:Europe/Berlin
BEGIN:DAYLIGHT
DTSTART:20230326T030000
TZOFFSETFROM:+0100
TZOFFSETTO:+0200
TZNAME:CEST
END:DAYLIGHT
END:VTIMEZONE
END:VCALENDAR