BEGIN:VCALENDAR
VERSION:2.0
PRODID:-//wp-events-plugin.com//6.6.4//EN
TZID:Europe/Berlin
X-WR-TIMEZONE:Europe/Berlin
BEGIN:VEVENT
UID:47707@tsv-aichach.de
DTSTART;TZID=Europe/Berlin:20240325T180000
DTEND;TZID=Europe/Berlin:20240325T193000
DTSTAMP:20240403T134435Z
URL:https://www.tsv-aichach.de/events/ringen-krafttraining-2024-03-25/
SUMMARY:Ringen Krafttraining
DESCRIPTION:
CATEGORIES:Ringen
END:VEVENT
BEGIN:VTIMEZONE
TZID:Europe/Berlin
X-LIC-LOCATION:Europe/Berlin
BEGIN:STANDARD
DTSTART:20231029T020000
TZOFFSETFROM:+0200
TZOFFSETTO:+0100
TZNAME:CET
END:STANDARD
END:VTIMEZONE
END:VCALENDAR