BEGIN:VCALENDAR
VERSION:2.0
PRODID:-//wp-events-plugin.com//6.6.4//EN
TZID:Europe/Berlin
X-WR-TIMEZONE:Europe/Berlin
BEGIN:VEVENT
UID:48998@tsv-aichach.de
DTSTART;TZID=Europe/Berlin:20240923T081500
DTEND;TZID=Europe/Berlin:20240923T091500
DTSTAMP:20240724T135318Z
URL:https://www.tsv-aichach.de/events/pk05-24-functional-training-10x-trai
 nerin-nicky-vogt-sportbox-raum-1-2024-09-23/
SUMMARY:PK05/24 Functional Training 10x / Trainerin Nicky Vogt / Sportbox R
 aum 1
DESCRIPTION:
CATEGORIES:Gruppenfitness,Turnen
LOCATION:TSV Sportbox\, Donauwörther Str. 12-14\, Aichach\, Bayern\, 86551
 \, Schwaben\, Deutschland
X-APPLE-STRUCTURED-LOCATION;VALUE=URI;X-ADDRESS=Donauwörther Str. 12-14\, 
 Aichach\, Bayern\, 86551\, Schwaben\, Deutschland;X-APPLE-RADIUS=100;X-TIT
 LE=TSV Sportbox:geo:0,0
END:VEVENT
BEGIN:VTIMEZONE
TZID:Europe/Berlin
X-LIC-LOCATION:Europe/Berlin
BEGIN:DAYLIGHT
DTSTART:20240331T030000
TZOFFSETFROM:+0100
TZOFFSETTO:+0200
TZNAME:CEST
END:DAYLIGHT
END:VTIMEZONE
END:VCALENDAR