BEGIN:VCALENDAR
VERSION:2.0
PRODID:-//wp-events-plugin.com//6.6.4//EN
TZID:Europe/Berlin
X-WR-TIMEZONE:Europe/Berlin
BEGIN:VEVENT
UID:55518@tsv-aichach.de
DTSTART;TZID=Europe/Berlin;VALUE=DATE:20260130
DTEND;TZID=Europe/Berlin;VALUE=DATE:20260131
DTSTAMP:20251126T085817Z
URL:https://www.tsv-aichach.de/events/paartalia-9/
SUMMARY:Paartalia
DESCRIPTION:
CATEGORIES:Hauptverein,Sitzungszimmer
END:VEVENT
BEGIN:VTIMEZONE
TZID:Europe/Berlin
X-LIC-LOCATION:Europe/Berlin
BEGIN:STANDARD
DTSTART:20251026T020000
TZOFFSETFROM:+0200
TZOFFSETTO:+0100
TZNAME:CET
END:STANDARD
END:VTIMEZONE
END:VCALENDAR