BEGIN:VCALENDAR
VERSION:2.0
PRODID:-//wp-events-plugin.com//6.6.4//EN
TZID:Europe/Berlin
X-WR-TIMEZONE:Europe/Berlin
BEGIN:VEVENT
UID:55036@tsv-aichach.de
DTSTART;TZID=Europe/Berlin:20260225T094500
DTEND;TZID=Europe/Berlin:20260225T104500
DTSTAMP:20250724T074225Z
URL:https://www.tsv-aichach.de/events/kt07-eltern-kind-turnen-gruppe-1-tsv
 -halle-trainerin-angela-martl-2026-02-25/
SUMMARY:KT07 Eltern-Kind-Turnen Gruppe 1 / TSV Halle / Trainerin: Angela Ma
 rtl
DESCRIPTION:
CATEGORIES:Kinderturnen
LOCATION:TSV Halle\, Donauwörther Str.12\, 86551 Aichach\, Deutschland
X-APPLE-STRUCTURED-LOCATION;VALUE=URI;X-ADDRESS=Donauwörther Str.12\, 8655
 1 Aichach\, Deutschland;X-APPLE-RADIUS=100;X-TITLE=TSV Halle:geo:0,0
END:VEVENT
BEGIN:VTIMEZONE
TZID:Europe/Berlin
X-LIC-LOCATION:Europe/Berlin
BEGIN:STANDARD
DTSTART:20251026T020000
TZOFFSETFROM:+0200
TZOFFSETTO:+0100
TZNAME:CET
END:STANDARD
END:VTIMEZONE
END:VCALENDAR