BEGIN:VCALENDAR
VERSION:2.0
PRODID:-//wp-events-plugin.com//6.6.4//EN
TZID:Europe/Berlin
X-WR-TIMEZONE:Europe/Berlin
BEGIN:VEVENT
UID:49051@tsv-aichach.de
DTSTART;TZID=Europe/Berlin:20241107T180000
DTEND;TZID=Europe/Berlin:20241107T190000
DTSTAMP:20240724T142700Z
URL:https://www.tsv-aichach.de/events/k26-24-10x-tsv-halle-trainerin-sabri
 na-mansour-2024-11-07/
SUMMARY:K26/24 ZUMBA / 10x / TSV Halle / Trainerin: Sabrina Mansour
DESCRIPTION:
CATEGORIES:Gruppenfitness,Turnen
LOCATION:TSV Halle\, Donauwörther Str.12\, 86551 Aichach\, Deutschland
X-APPLE-STRUCTURED-LOCATION;VALUE=URI;X-ADDRESS=Donauwörther Str.12\, 8655
 1 Aichach\, Deutschland;X-APPLE-RADIUS=100;X-TITLE=TSV Halle:geo:0,0
END:VEVENT
BEGIN:VTIMEZONE
TZID:Europe/Berlin
X-LIC-LOCATION:Europe/Berlin
BEGIN:STANDARD
DTSTART:20241027T020000
TZOFFSETFROM:+0200
TZOFFSETTO:+0100
TZNAME:CET
END:STANDARD
END:VTIMEZONE
END:VCALENDAR