BEGIN:VCALENDAR
VERSION:2.0
PRODID:-//wp-events-plugin.com//6.6.4//EN
TZID:Europe/Berlin
X-WR-TIMEZONE:Europe/Berlin
BEGIN:VEVENT
UID:44538@tsv-aichach.de
DTSTART;TZID=Europe/Berlin:20240322T180000
DTEND;TZID=Europe/Berlin:20240322T190000
DTSTAMP:20231128T164348Z
URL:https://www.tsv-aichach.de/events/k06-24-zumba-10x-sportbox-raum-3-tra
 inerin-neri-acikgoez-2024-03-22/
SUMMARY:K06/24 ZUMBA / 10x / Sportbox Raum 3 / Trainerin: Neri Acikgöz
DESCRIPTION:
CATEGORIES:Turnen
LOCATION:TSV Sportbox\, Donauwörther Str. 12-14\, Aichach\, Bayern\, 86551
 \, Schwaben\, Deutschland
X-APPLE-STRUCTURED-LOCATION;VALUE=URI;X-ADDRESS=Donauwörther Str. 12-14\, 
 Aichach\, Bayern\, 86551\, Schwaben\, Deutschland;X-APPLE-RADIUS=100;X-TIT
 LE=TSV Sportbox:geo:0,0
END:VEVENT
BEGIN:VTIMEZONE
TZID:Europe/Berlin
X-LIC-LOCATION:Europe/Berlin
BEGIN:STANDARD
DTSTART:20231029T020000
TZOFFSETFROM:+0200
TZOFFSETTO:+0100
TZNAME:CET
END:STANDARD
END:VTIMEZONE
END:VCALENDAR