BEGIN:VCALENDAR
VERSION:2.0
PRODID:-//wp-events-plugin.com//6.6.4//EN
TZID:Europe/Berlin
X-WR-TIMEZONE:Europe/Berlin
BEGIN:VEVENT
UID:14338@tsv-aichach.de
DTSTART;TZID=Europe/Berlin:20201219T143000
DTEND;TZID=Europe/Berlin:20201219T210000
DTSTAMP:20201006T092914Z
URL:https://www.tsv-aichach.de/events/heimspieltag-volleyball-herren-2/
SUMMARY:Heimspieltag Volleyball Herren
DESCRIPTION:Heimspieltag der Herren Aichach\n\nWo: Grundschule Nord / Halle
  1\n\nLiga: Bezirksklasse\nGegner: Leipheim / Schwabmünchen II\n\nBeginn:
  14:30
CATEGORIES:Volleyball
LOCATION:Grundschule Nord\, Mozartstraße 1\, Aichach\, Bayern\, 86551\, Sc
 hwaben\, Deutschland
X-APPLE-STRUCTURED-LOCATION;VALUE=URI;X-ADDRESS=Mozartstraße 1\, Aichach\,
  Bayern\, 86551\, Schwaben\, Deutschland;X-APPLE-RADIUS=100;X-TITLE=Grunds
 chule Nord:geo:0,0
END:VEVENT
BEGIN:VTIMEZONE
TZID:Europe/Berlin
X-LIC-LOCATION:Europe/Berlin
BEGIN:STANDARD
DTSTART:20201025T020000
TZOFFSETFROM:+0200
TZOFFSETTO:+0100
TZNAME:CET
END:STANDARD
END:VTIMEZONE
END:VCALENDAR